BEGIN:VCALENDAR
VERSION:2.0
PRODID:-//Sullivan County Child Care Council - ECPv6.15.20//NONSGML v1.0//EN
CALSCALE:GREGORIAN
METHOD:PUBLISH
X-ORIGINAL-URL:https://scchildcare.com
X-WR-CALDESC:Events for Sullivan County Child Care Council
REFRESH-INTERVAL;VALUE=DURATION:PT1H
X-Robots-Tag:noindex
X-PUBLISHED-TTL:PT1H
BEGIN:VTIMEZONE
TZID:America/New_York
BEGIN:DAYLIGHT
TZOFFSETFROM:-0500
TZOFFSETTO:-0400
TZNAME:EDT
DTSTART:20180311T070000
END:DAYLIGHT
BEGIN:STANDARD
TZOFFSETFROM:-0400
TZOFFSETTO:-0500
TZNAME:EST
DTSTART:20181104T060000
END:STANDARD
BEGIN:DAYLIGHT
TZOFFSETFROM:-0500
TZOFFSETTO:-0400
TZNAME:EDT
DTSTART:20190310T070000
END:DAYLIGHT
BEGIN:STANDARD
TZOFFSETFROM:-0400
TZOFFSETTO:-0500
TZNAME:EST
DTSTART:20191103T060000
END:STANDARD
BEGIN:DAYLIGHT
TZOFFSETFROM:-0500
TZOFFSETTO:-0400
TZNAME:EDT
DTSTART:20200308T070000
END:DAYLIGHT
BEGIN:STANDARD
TZOFFSETFROM:-0400
TZOFFSETTO:-0500
TZNAME:EST
DTSTART:20201101T060000
END:STANDARD
END:VTIMEZONE
BEGIN:VEVENT
DTSTART;TZID=America/New_York:20191024T180000
DTEND;TZID=America/New_York:20191024T190000
DTSTAMP:20260423T173736
CREATED:20190327T200638Z
LAST-MODIFIED:20190327T200638Z
UID:1215-1571940000-1571943600@scchildcare.com
SUMMARY:Orientation Session
DESCRIPTION:Description: An hour and half in an intimate group setting to get all your answers about opening your own in-home child care program. $10 Fee. Registration Required. Call (845) 292-7166 X307 \nClass Minimum: NA
URL:https://scchildcare.com/event/orientation-session-4/
LOCATION:NY
CATEGORIES:Provider Information & Education
END:VEVENT
BEGIN:VEVENT
DTSTART;TZID=America/New_York:20191024T090000
DTEND;TZID=America/New_York:20191024T163000
DTSTAMP:20260423T173736
CREATED:20190903T184934Z
LAST-MODIFIED:20190903T184934Z
UID:1477-1571907600-1571934600@scchildcare.com
SUMMARY:Health and Safety
DESCRIPTION:RSVP with payment in full by October 15th \nThree consecutive dates: October 22\, 23\, and 24. You must attend all three sessions. 
URL:https://scchildcare.com/event/health-and-safety-3/
LOCATION:Sullivan County Child Care Council\, 7 Community Lane\, Liberty\, NY\, 12754\, United States
CATEGORIES:Health & Safety
END:VEVENT
BEGIN:VEVENT
DTSTART;TZID=America/New_York:20191023T090000
DTEND;TZID=America/New_York:20191023T163000
DTSTAMP:20260423T173736
CREATED:20190903T184838Z
LAST-MODIFIED:20190903T184838Z
UID:1475-1571821200-1571848200@scchildcare.com
SUMMARY:Health and Safety
DESCRIPTION:RSVP with payment in full by October 15th \nThree consecutive dates: October 22\, 23\, and 24. You must attend all three sessions. 
URL:https://scchildcare.com/event/health-and-safety-2/
LOCATION:Sullivan County Child Care Council\, 7 Community Lane\, Liberty\, NY\, 12754\, United States
CATEGORIES:Health & Safety
END:VEVENT
BEGIN:VEVENT
DTSTART;TZID=America/New_York:20191022T090000
DTEND;TZID=America/New_York:20191022T163000
DTSTAMP:20260423T173736
CREATED:20190903T184648Z
LAST-MODIFIED:20190903T184648Z
UID:1473-1571734800-1571761800@scchildcare.com
SUMMARY:Health and Safety
DESCRIPTION:RSVP with payment in full by October 15th \nThree consecutive dates: October 22\, 23\, and 24. You must attend all three sessions. 
URL:https://scchildcare.com/event/health-and-safety/
LOCATION:Sullivan County Child Care Council\, 7 Community Lane\, Liberty\, NY\, 12754\, United States
CATEGORIES:Health & Safety
END:VEVENT
BEGIN:VEVENT
DTSTART;TZID=America/New_York:20191017T163000
DTEND;TZID=America/New_York:20191017T213000
DTSTAMP:20260423T173736
CREATED:20190329T161458Z
LAST-MODIFIED:20190403T140203Z
UID:1249-1571329800-1571347800@scchildcare.com
SUMMARY:CPR & First Aid
DESCRIPTION:Five hour American Heart Association course in Pediatric CPR and First Aid. Specifically designed for child care environments. \n$75 Fee includes book and card.Registration Required
URL:https://scchildcare.com/event/cpr-first-aid-3/
LOCATION:Sullivan County Child Care Council\, 7 Community Lane\, Liberty\, NY\, 12754\, United States
CATEGORIES:First Aid
END:VEVENT
BEGIN:VEVENT
DTSTART;TZID=America/New_York:20190925T170000
DTEND;TZID=America/New_York:20190925T220000
DTSTAMP:20260423T173736
CREATED:20190903T184049Z
LAST-MODIFIED:20190903T185000Z
UID:1470-1569430800-1569448800@scchildcare.com
SUMMARY:CPR/FA Course (EIP is accepted w/voucher)
DESCRIPTION:RSVP with full payment by 9/20/2019 \nCall (845) 292-7166 to RSVP
URL:https://scchildcare.com/event/cpr-fa-course-eip-is-accepted-w-voucher/
LOCATION:Sullivan County Child Care Council\, 7 Community Lane\, Liberty\, NY\, 12754\, United States
CATEGORIES:First Aid
END:VEVENT
BEGIN:VEVENT
DTSTART;TZID=America/New_York:20190822T103000
DTEND;TZID=America/New_York:20190822T113000
DTSTAMP:20260423T173737
CREATED:20190327T200457Z
LAST-MODIFIED:20190327T200457Z
UID:1213-1566469800-1566473400@scchildcare.com
SUMMARY:Orientation Session
DESCRIPTION:Description: An hour and half in an intimate group setting to get all your answers about opening your own in-home child care program. $10 Fee. Registration Required. Call (845) 292-7166 X307 \nClass Minimum: NA
URL:https://scchildcare.com/event/orientation-session-3/
LOCATION:NY
CATEGORIES:Provider Information & Education
END:VEVENT
BEGIN:VEVENT
DTSTART;TZID=America/New_York:20190716T184500
DTEND;TZID=America/New_York:20190716T211500
DTSTAMP:20260423T173737
CREATED:20190327T210654Z
LAST-MODIFIED:20190327T210654Z
UID:1230-1563302700-1563311700@scchildcare.com
SUMMARY:SUNY Webcast - Safety throughout the Year
DESCRIPTION:Total Cost: $0.00 \nRegistration Strongly Recommended: GO to: https://www.ecetp.pdp.albany.edu/findtraining.aspx \nCapacity: 16 seats
URL:https://scchildcare.com/event/suny-webcast-safety-throughout-the-year/
LOCATION:NY
CATEGORIES:Provider Information & Education
END:VEVENT
BEGIN:VEVENT
DTSTART;TZID=America/New_York:20190627T180000
DTEND;TZID=America/New_York:20190627T190000
DTSTAMP:20260423T173737
CREATED:20190327T200326Z
LAST-MODIFIED:20190327T200326Z
UID:1211-1561658400-1561662000@scchildcare.com
SUMMARY:Orientation Session
DESCRIPTION:Description: An hour and half in an intimate group setting to get all your answers about opening your own in-home child care program. $10 Fee. Registration Required. Call (845) 292-7166 X307 \nClass Minimum: NA
URL:https://scchildcare.com/event/orientation-session-2/
LOCATION:NY
CATEGORIES:Provider Information & Education
END:VEVENT
BEGIN:VEVENT
DTSTART;TZID=America/New_York:20190524T090000
DTEND;TZID=America/New_York:20190524T130000
DTSTAMP:20260423T173737
CREATED:20190327T210326Z
LAST-MODIFIED:20190327T210326Z
UID:1225-1558688400-1558702800@scchildcare.com
SUMMARY:Health and Safety: Competencies for Becoming a Family or Group Family Day Care Provider
DESCRIPTION:Description: A fifteen hour intensive classroom training designed to ensure that potential providers are prepared and are knowledgeable about the expectations of the Office of Children and Family Services (OCFS) regarding NYS child care regulations and practices. Successful completion of this class is required to become a Family or Group Family child care provider. \n$250\, non refundable \nClass minimum: 4
URL:https://scchildcare.com/event/health-and-safety-competencies-for-becoming-a-family-or-group-family-day-care-provider-4/
LOCATION:NY
CATEGORIES:Provider Information & Education
END:VEVENT
BEGIN:VEVENT
DTSTART;TZID=America/New_York:20190523T090000
DTEND;TZID=America/New_York:20190523T163000
DTSTAMP:20260423T173737
CREATED:20190327T210223Z
LAST-MODIFIED:20190327T210223Z
UID:1223-1558602000-1558629000@scchildcare.com
SUMMARY:Health and Safety: Competencies for Becoming a Family or Group Family Day Care Provider
DESCRIPTION:Description: A fifteen hour intensive classroom training designed to ensure that potential providers are prepared and are knowledgeable about the expectations of the Office of Children and Family Services (OCFS) regarding NYS child care regulations and practices. Successful completion of this class is required to become a Family or Group Family child care provider. \n$250\, non refundable \nClass minimum: 4
URL:https://scchildcare.com/event/health-and-safety-competencies-for-becoming-a-family-or-group-family-day-care-provider-3/
LOCATION:NY
CATEGORIES:Provider Information & Education
END:VEVENT
BEGIN:VEVENT
DTSTART;TZID=America/New_York:20190521T090000
DTEND;TZID=America/New_York:20190521T130000
DTSTAMP:20260423T173737
CREATED:20190327T210103Z
LAST-MODIFIED:20190327T210103Z
UID:1221-1558429200-1558443600@scchildcare.com
SUMMARY:Health and Safety: Competencies for Becoming a Family or Group Family Day Care Provider
DESCRIPTION:Description: A fifteen hour intensive classroom training designed to ensure that potential providers are prepared and are knowledgeable about the expectations of the Office of Children and Family Services (OCFS) regarding NYS child care regulations and practices. Successful completion of this class is required to become a Family or Group Family child care provider. \n$250\, non refundable \nClass minimum: 4
URL:https://scchildcare.com/event/health-and-safety-competencies-for-becoming-a-family-or-group-family-day-care-provider-2/
LOCATION:NY
CATEGORIES:Provider Information & Education
END:VEVENT
BEGIN:VEVENT
DTSTART;TZID=America/New_York:20190520T090000
DTEND;TZID=America/New_York:20190520T163000
DTSTAMP:20260423T173737
CREATED:20190327T205927Z
LAST-MODIFIED:20190327T205927Z
UID:1219-1558342800-1558369800@scchildcare.com
SUMMARY:Health and Safety: Competencies for Becoming a Family or Group Family Day Care Provider
DESCRIPTION:Description: A fifteen hour intensive classroom training designed to ensure that potential providers are prepared and are knowledgeable about the expectations of the Office of Children and Family Services (OCFS) regarding NYS child care regulations and practices. Successful completion of this class is required to become a Family or Group Family child care provider. \n$250\, non refundable \nClass minimum: 4
URL:https://scchildcare.com/event/health-and-safety-competencies-for-becoming-a-family-or-group-family-day-care-provider/
LOCATION:NY
CATEGORIES:Provider Information & Education
END:VEVENT
BEGIN:VEVENT
DTSTART;TZID=America/New_York:20190514T163000
DTEND;TZID=America/New_York:20190514T213000
DTSTAMP:20260423T173737
CREATED:20190329T161405Z
LAST-MODIFIED:20190403T140131Z
UID:1247-1557851400-1557869400@scchildcare.com
SUMMARY:CPR & First Aid
DESCRIPTION:Five hour American Heart Association course in Pediatric CPR and First Aid. Specifically designed for child care environments. \n$75 Fee includes book and card.Registration Required
URL:https://scchildcare.com/event/cpr-first-aid-2/
LOCATION:Sullivan County Child Care Council\, 7 Community Lane\, Liberty\, NY\, 12754\, United States
CATEGORIES:First Aid
END:VEVENT
BEGIN:VEVENT
DTSTART;TZID=America/New_York:20190510T000000
DTEND;TZID=America/New_York:20190510T000000
DTSTAMP:20260423T173737
CREATED:20190327T211007Z
LAST-MODIFIED:20190327T211007Z
UID:1236-1557446400-1557446400@scchildcare.com
SUMMARY:Provider Appreciation Day Celebration
DESCRIPTION:Call (845) 292-7166 X305 for more information and look for a formal invite coming soon!
URL:https://scchildcare.com/event/provider-appreciation-day-celebration/
LOCATION:NY
CATEGORIES:Provider Information & Education
END:VEVENT
BEGIN:VEVENT
DTSTART;TZID=America/New_York:20190425T103000
DTEND;TZID=America/New_York:20190425T113000
DTSTAMP:20260423T173737
CREATED:20190327T195714Z
LAST-MODIFIED:20190327T195914Z
UID:1207-1556188200-1556191800@scchildcare.com
SUMMARY:Orientation Session
DESCRIPTION:Description: An hour and half in an intimate group setting to get all your answers about opening your own in-home child care program. $10 Fee. Registration Required. Call (845) 292-7166 X307 \nClass Minimum: NA
URL:https://scchildcare.com/event/orientation-session/
LOCATION:NY
CATEGORIES:Provider Information & Education
END:VEVENT
BEGIN:VEVENT
DTSTART;TZID=America/New_York:20190415T163000
DTEND;TZID=America/New_York:20190415T213000
DTSTAMP:20260423T173737
CREATED:20190329T161053Z
LAST-MODIFIED:20190403T140234Z
UID:1242-1555345800-1555363800@scchildcare.com
SUMMARY:CPR & First Aid
DESCRIPTION:Five hour American Heart Association course in Pediatric CPR and First Aid. Specifically designed for child care environments. \n$75 Fee includes book and card.Registration Required
URL:https://scchildcare.com/event/cpr-first-aid/
LOCATION:Sullivan County Child Care Council\, 7 Community Lane\, Liberty\, NY\, 12754\, United States
CATEGORIES:First Aid
END:VEVENT
BEGIN:VEVENT
DTSTART;TZID=America/New_York:20190411T184500
DTEND;TZID=America/New_York:20190411T211500
DTSTAMP:20260423T173737
CREATED:20190327T210527Z
LAST-MODIFIED:20190327T210527Z
UID:1227-1555008300-1555017300@scchildcare.com
SUMMARY:SUNY  Webcast - Supporting Children and Families through Good Eating Practices
DESCRIPTION:Total Cost: $0.00 \nRegistration Strongly recommended: GO to: https://www.ecetp.pdp.albany.edu/findtraining.aspx \nCapacity: 16 seats
URL:https://scchildcare.com/event/suny-webcast-supporting-children-and-families-through-good-eating-practices/
LOCATION:NY
CATEGORIES:Provider Information & Education
END:VEVENT
BEGIN:VEVENT
DTSTART;TZID=America/New_York:20190223T163000
DTEND;TZID=America/New_York:20190223T213000
DTSTAMP:20260423T173737
CREATED:20181121T142031Z
LAST-MODIFIED:20181203T234834Z
UID:835-1550939400-1550957400@scchildcare.com
SUMMARY:Heartsaver® Pediatric First Aid/CPR AED: American Heart Association Provider Training
DESCRIPTION:Heartsaver® Pediatric First Aid CPR AED is designed to meet the regulatory requirements for child care workers in all 50 United States. It teaches child care providers and others to respond to and manage illnesses and injuries in a child or infant in the first few minutes until professional help arrives. The course covers the Four Steps of Pediatric First Aid and modules in Pediatric First Aid\, Child/Infant CPR AED\, Adult CPR AED\, and Asthma Care Training. Upon successful completion of this training you will receive a certificate valid for 2 years. \nApply for the EIP Scholarship: ecetp.pdp.albany.edu
URL:https://scchildcare.com/event/heartsaver-pediatric-first-aid-cpr-aed-american-heart-association-provider-training/
LOCATION:Sullivan County Child Care Council\, 7 Community Lane\, Liberty\, NY\, 12754\, United States
CATEGORIES:Pediatric
END:VEVENT
END:VCALENDAR