BEGIN:VCALENDAR
VERSION:2.0
PRODID:-//Sullivan County Child Care Council - ECPv6.15.20//NONSGML v1.0//EN
CALSCALE:GREGORIAN
METHOD:PUBLISH
X-ORIGINAL-URL:https://scchildcare.com
X-WR-CALDESC:Events for Sullivan County Child Care Council
REFRESH-INTERVAL;VALUE=DURATION:PT1H
X-Robots-Tag:noindex
X-PUBLISHED-TTL:PT1H
BEGIN:VTIMEZONE
TZID:America/New_York
BEGIN:DAYLIGHT
TZOFFSETFROM:-0500
TZOFFSETTO:-0400
TZNAME:EDT
DTSTART:20180311T070000
END:DAYLIGHT
BEGIN:STANDARD
TZOFFSETFROM:-0400
TZOFFSETTO:-0500
TZNAME:EST
DTSTART:20181104T060000
END:STANDARD
BEGIN:DAYLIGHT
TZOFFSETFROM:-0500
TZOFFSETTO:-0400
TZNAME:EDT
DTSTART:20190310T070000
END:DAYLIGHT
BEGIN:STANDARD
TZOFFSETFROM:-0400
TZOFFSETTO:-0500
TZNAME:EST
DTSTART:20191103T060000
END:STANDARD
BEGIN:DAYLIGHT
TZOFFSETFROM:-0500
TZOFFSETTO:-0400
TZNAME:EDT
DTSTART:20200308T070000
END:DAYLIGHT
BEGIN:STANDARD
TZOFFSETFROM:-0400
TZOFFSETTO:-0500
TZNAME:EST
DTSTART:20201101T060000
END:STANDARD
END:VTIMEZONE
BEGIN:VEVENT
DTSTART;TZID=America/New_York:20190223T163000
DTEND;TZID=America/New_York:20190223T213000
DTSTAMP:20260424T002939
CREATED:20181121T142031Z
LAST-MODIFIED:20181203T234834Z
UID:835-1550939400-1550957400@scchildcare.com
SUMMARY:Heartsaver® Pediatric First Aid/CPR AED: American Heart Association Provider Training
DESCRIPTION:Heartsaver® Pediatric First Aid CPR AED is designed to meet the regulatory requirements for child care workers in all 50 United States. It teaches child care providers and others to respond to and manage illnesses and injuries in a child or infant in the first few minutes until professional help arrives. The course covers the Four Steps of Pediatric First Aid and modules in Pediatric First Aid\, Child/Infant CPR AED\, Adult CPR AED\, and Asthma Care Training. Upon successful completion of this training you will receive a certificate valid for 2 years. \nApply for the EIP Scholarship: ecetp.pdp.albany.edu
URL:https://scchildcare.com/event/heartsaver-pediatric-first-aid-cpr-aed-american-heart-association-provider-training/
LOCATION:Sullivan County Child Care Council\, 7 Community Lane\, Liberty\, NY\, 12754\, United States
CATEGORIES:Pediatric
END:VEVENT
END:VCALENDAR